BEGIN:VCALENDAR
VERSION:2.0
PRODID:-//Sailly-Labourse - ECPv6.10.1.1//NONSGML v1.0//EN
CALSCALE:GREGORIAN
METHOD:PUBLISH
X-ORIGINAL-URL:https://sailly-labourse.fr
X-WR-CALDESC:Évènements pour Sailly-Labourse
REFRESH-INTERVAL;VALUE=DURATION:PT1H
X-Robots-Tag:noindex
X-PUBLISHED-TTL:PT1H
BEGIN:VTIMEZONE
TZID:Europe/Paris
BEGIN:DAYLIGHT
TZOFFSETFROM:+0100
TZOFFSETTO:+0200
TZNAME:CEST
DTSTART:20260329T010000
END:DAYLIGHT
BEGIN:STANDARD
TZOFFSETFROM:+0200
TZOFFSETTO:+0100
TZNAME:CET
DTSTART:20261025T010000
END:STANDARD
END:VTIMEZONE
BEGIN:VEVENT
DTSTART;TZID=Europe/Paris:20260506T080000
DTEND;TZID=Europe/Paris:20260506T093000
DTSTAMP:20260420T192639
CREATED:20260420T093550Z
LAST-MODIFIED:20260420T094353Z
UID:30414-1778054400-1778059800@sailly-labourse.fr
SUMMARY:16ème édition des coups de cœur Tiot Loupiot 2026
DESCRIPTION:Connaissez vous le Coup de cœur Tiot Loupiot ? \n\n\nDestiné aux enfants de 0 à 6 ans\, ce prix jeunesse est porté par l’association Droit de Cité et soutenu par le Département du Pas-de-Calais\, dans le cadre de l’opération « On n’est jamais trop petit pour lire ».\n\n\n Chaque année\, 8 albums jeunesse soigneusement sélectionnés par des professionnel(le)s du livre et de la petite enfance sont proposés dans les bibliothèques et structures participantes.\n\n\nAprès les lectures à voix haute\, c’est aux enfants de voter pour leur histoire préférée : c’est ça\, le Coup de cœur Tiot Loupiot ! \n\n\n Un moment de partage\, de découverte\, d’émotion et de plaisir autour du livre\, à vivre en famille ou en structure. Parce qu’il n’y a pas d’âge pour aimer les histoires…\n\n\nRendez-vous dans dans votre médiathèque préférée pour découvrir ces ouvrages.
URL:https://sailly-labourse.fr/event/16eme-edition-des-coups-de-coeur-tiot-loupiot-2026/
LOCATION:Médiathèque de Sailly-Labourse\, Rue de Noeux\, Sailly-Labourse\, 62113
ATTACH;FMTTYPE=image/png:https://sailly-labourse.fr/wp-content/uploads/2026/04/Coup-de-coeur-tiot-loupiot-2026-002.png
END:VEVENT
END:VCALENDAR